BEGIN:VCALENDAR
VERSION:2.0
PRODID:-//eventon.com NONSGML v1.0//EN
CALSCALE:GREGORIAN
METHOD:PUBLISH
BEGIN:VEVENT
UID:69eb92081c6ef
DTSTAMP:20260424T155344Z
DTSTART:20200320T170000Z
DTEND:20200320T200000Z
LOCATION:
SUMMARY:Twilight Multicultural Arts Fair
DESCRIPTION:\nhttp://eastvictoriaparkps.wa.edu.au/events/twilight-multicult
 ural-arts-fair/
URL:http://eastvictoriaparkps.wa.edu.au/events/twilight-multicultural-arts-fair/
END:VEVENT
END:VCALENDAR